BEGIN:VCALENDAR
VERSION:2.0
PRODID:-//Piedmont Classic Chevy Club - ECPv6.15.13//NONSGML v1.0//EN
CALSCALE:GREGORIAN
METHOD:PUBLISH
X-ORIGINAL-URL:https://piedmontccc.org
X-WR-CALDESC:Events for Piedmont Classic Chevy Club
REFRESH-INTERVAL;VALUE=DURATION:PT1H
X-Robots-Tag:noindex
X-PUBLISHED-TTL:PT1H
BEGIN:VTIMEZONE
TZID:UTC
BEGIN:STANDARD
TZOFFSETFROM:+0000
TZOFFSETTO:+0000
TZNAME:UTC
DTSTART:20220101T000000
END:STANDARD
END:VTIMEZONE
BEGIN:VEVENT
DTSTART;TZID=UTC:20230624T100000
DTEND;TZID=UTC:20230624T160000
DTSTAMP:20260423T043616
CREATED:20230622T193025Z
LAST-MODIFIED:20230622T193659Z
UID:7745-1687600800-1687622400@piedmontccc.org
SUMMARY:Summer Drive In Anger NC
DESCRIPTION:This event will be fun for everyone as it’ll be packed with awesome trucks and cars both classic and modern\, Food\, Vendors and music. The Depot will be open for some nice shade if it’s to warm or there’s local business to appreciate along the strip.\nTrophies will be awarded as such.\nTop 10 Classic (Sponsored by High Output Audio)\nBest Classic(Sponsored by High Output Audio)\nTop 10 Truck(Sponsored by Truck Outfitters)\nBest Truck(Sponsored by Truck Outfitters)\nTop 10 Modern\nBest Modern\nTop 3 Bike\nBest Bike\nBest Ford\nBest Mopar\nBest GM\nBest Import\nBest Rat Rod\nFan Favorite\nKids Choice\nFurthest Traveled\nBest in Show(Jade Towing and Recovery)\nRaffle prizes and 50/50 Drawing
URL:https://piedmontccc.org/event/summer-drive-in-anger-nc/
LOCATION:Angier NC\, 19 Depot\, Angier\, N.C.\, 27501
CATEGORIES:Car Show
END:VEVENT
END:VCALENDAR