BEGIN:VCALENDAR
VERSION:2.0
PRODID:-//Piedmont Classic Chevy Club - ECPv6.15.13//NONSGML v1.0//EN
CALSCALE:GREGORIAN
METHOD:PUBLISH
X-WR-CALNAME:Piedmont Classic Chevy Club
X-ORIGINAL-URL:https://piedmontccc.org
X-WR-CALDESC:Events for Piedmont Classic Chevy Club
REFRESH-INTERVAL;VALUE=DURATION:PT1H
X-Robots-Tag:noindex
X-PUBLISHED-TTL:PT1H
BEGIN:VTIMEZONE
TZID:UTC
BEGIN:STANDARD
TZOFFSETFROM:+0000
TZOFFSETTO:+0000
TZNAME:UTC
DTSTART:20230101T000000
END:STANDARD
END:VTIMEZONE
BEGIN:VEVENT
DTSTART;TZID=UTC:20240419T080000
DTEND;TZID=UTC:20240421T150000
DTSTAMP:20260423T093404
CREATED:20240326T014541Z
LAST-MODIFIED:20240327T022153Z
UID:6829-1713513600-1713711600@piedmontccc.org
SUMMARY:GoodGuys 9th Griot’s Garage North Carolina Nationals
DESCRIPTION: 9th Griot’s Garage North Carolina Nationals\nFor More Info go to –   https://www.good-guys.com/ncn\n\n\n\n\nApril 19-21\, 2024\nNorth Carolina State Fairgrounds\n1025 Blue Ridge Blvd.\, Raleigh NC 27607\nNON-GOODGUYS MEMBER PRICING\nGeneral Admission (ages 13+) (Friday and Saturday) at Gate – $28.00 includes TAX\, (Sunday)at Gate  $23.00 includes Tax.\nKids Admission (ages 7-12) – $10.00 (All Days); Kids (ages 6 & under) – FREE\nParking – Free\n\n\n\n\n\n\n\n\n\n\n\n\n\n\n\n\n\n\n\n\n\n\n\n  \n\n\n\n 
URL:https://piedmontccc.org/event/goodguys-6th-griots-garage-north-carolina-nationals/
LOCATION:NC State Fairgrounds\, 1025 Blue Ridge Rd\, Raleigh\, North Carolina\, 27507
CATEGORIES:Car Show
ATTACH;FMTTYPE=image/jpeg:https://piedmontccc.org/wp-content/uploads/2021/01/429872377_1117990036207451_8912684529776611971_n.jpg
END:VEVENT
BEGIN:VEVENT
DTSTART;TZID=UTC:20240420T140000
DTEND;TZID=UTC:20240420T180000
DTSTAMP:20260423T093404
CREATED:20240409T113724Z
LAST-MODIFIED:20240409T153320Z
UID:7035-1713621600-1713636000@piedmontccc.org
SUMMARY:Rolesville Cruise In at Pie-Zano's Pizzeria
DESCRIPTION:
URL:https://piedmontccc.org/event/rolesville-cruise-in-at-pie-zanos-pizzeria/
LOCATION:Pie-Zano’s\, 9593\, 252 Southtown Cir\,\, Rolesville\, N.C.\, 27571
CATEGORIES:Cruise In
END:VEVENT
END:VCALENDAR