BEGIN:VCALENDAR
VERSION:2.0
PRODID:-//Piedmont Classic Chevy Club - ECPv6.15.13//NONSGML v1.0//EN
CALSCALE:GREGORIAN
METHOD:PUBLISH
X-ORIGINAL-URL:https://piedmontccc.org
X-WR-CALDESC:Events for Piedmont Classic Chevy Club
REFRESH-INTERVAL;VALUE=DURATION:PT1H
X-Robots-Tag:noindex
X-PUBLISHED-TTL:PT1H
BEGIN:VTIMEZONE
TZID:UTC
BEGIN:STANDARD
TZOFFSETFROM:+0000
TZOFFSETTO:+0000
TZNAME:UTC
DTSTART:20230101T000000
END:STANDARD
END:VTIMEZONE
BEGIN:VEVENT
DTSTART;TZID=UTC:20240602T080000
DTEND;TZID=UTC:20240602T140000
DTSTAMP:20260423T153536
CREATED:20240514T141409Z
LAST-MODIFIED:20240517T133634Z
UID:5385-1717315200-1717336800@piedmontccc.org
SUMMARY:American Legion Post 116 Spring Car & Truck & Rat Rod Open Show
DESCRIPTION:Moved to Rain Date June 2nd.\n \n  \nMore For Info contact\nHarold Boettcher\nPhone  919-830-5072\n\n  \n 
URL:https://piedmontccc.org/event/fall-car-truck-open-show/
LOCATION:Johnson Pond Rd. Fuquay Varina\, 6400 Johnson Pond Rd. Fuquay Varina NC.\, Fuquay Varina\, United States
CATEGORIES:Car Show
END:VEVENT
END:VCALENDAR