BEGIN:VCALENDAR
VERSION:2.0
PRODID:-//Piedmont Classic Chevy Club - ECPv6.15.13//NONSGML v1.0//EN
CALSCALE:GREGORIAN
METHOD:PUBLISH
X-ORIGINAL-URL:https://piedmontccc.org
X-WR-CALDESC:Events for Piedmont Classic Chevy Club
REFRESH-INTERVAL;VALUE=DURATION:PT1H
X-Robots-Tag:noindex
X-PUBLISHED-TTL:PT1H
BEGIN:VTIMEZONE
TZID:UTC
BEGIN:STANDARD
TZOFFSETFROM:+0000
TZOFFSETTO:+0000
TZNAME:UTC
DTSTART:20230101T000000
END:STANDARD
END:VTIMEZONE
BEGIN:VEVENT
DTSTART;TZID=UTC:20240831T080000
DTEND;TZID=UTC:20240831T150000
DTSTAMP:20260423T080054
CREATED:20210901T010438Z
LAST-MODIFIED:20240723T220411Z
UID:7169-1725091200-1725116400@piedmontccc.org
SUMMARY:29th Annual Stray Cats Rod  & Custom Show
DESCRIPTION:  \n \n  \n 
URL:https://piedmontccc.org/event/rod-custom-show/
LOCATION:Downtown Littlenton\, 149 E\, Main St\, Littleton\, NC\, 27850\, United States
CATEGORIES:Car Show
END:VEVENT
BEGIN:VEVENT
DTSTART;TZID=UTC:20240831T080000
DTEND;TZID=UTC:20240831T150000
DTSTAMP:20260423T080054
CREATED:20230630T160149Z
LAST-MODIFIED:20240723T214130Z
UID:7079-1725091200-1725116400@piedmontccc.org
SUMMARY:18th Annual Durham N.C. Labor Day Weekend Car\, Truck \,Bike Show
DESCRIPTION:August 31 2024 8:00 am \nWhere\, Fellowship Baptist Church 515 Southerland St Durham NC 27703.\nRegistration 8-12. $20.00. \nBathrooms in the front of the church.\nFor more info email me\, or call me . Larry 919-618-2922.
URL:https://piedmontccc.org/event/15th-annual-durham-n-c-labor-day-weekend-car-truck-bike-show/
LOCATION:Fellowship Baptist Church\, 515 Southerland St.\, Durham\, N.C.\, 27703
CATEGORIES:Car Show
ORGANIZER;CN="Larry Riley":MAILTO:larrys68chevelle@yahoo.com
END:VEVENT
END:VCALENDAR