BEGIN:VCALENDAR
VERSION:2.0
PRODID:-//Piedmont Classic Chevy Club - ECPv6.15.13//NONSGML v1.0//EN
CALSCALE:GREGORIAN
METHOD:PUBLISH
X-WR-CALNAME:Piedmont Classic Chevy Club
X-ORIGINAL-URL:https://piedmontccc.org
X-WR-CALDESC:Events for Piedmont Classic Chevy Club
REFRESH-INTERVAL;VALUE=DURATION:PT1H
X-Robots-Tag:noindex
X-PUBLISHED-TTL:PT1H
BEGIN:VTIMEZONE
TZID:UTC
BEGIN:STANDARD
TZOFFSETFROM:+0000
TZOFFSETTO:+0000
TZNAME:UTC
DTSTART:20200101T000000
END:STANDARD
END:VTIMEZONE
BEGIN:VEVENT
DTSTART;TZID=UTC:20230730T110000
DTEND;TZID=UTC:20230730T160000
DTSTAMP:20260423T000752
CREATED:20230630T204102Z
LAST-MODIFIED:20230630T204530Z
UID:7771-1690714800-1690732800@piedmontccc.org
SUMMARY:Classic Car Cruise In Old North State Food Hall
DESCRIPTION:
URL:https://piedmontccc.org/event/classic-car-cruise-in-noth-state-food-hall/
LOCATION:Old Noth State Food Hall\, 67 Jr Rd Suite 300\,\, Selma\, N.C.\, 27576
CATEGORIES:Cruise In
END:VEVENT
BEGIN:VEVENT
DTSTART;TZID=UTC:20230624T100000
DTEND;TZID=UTC:20230624T160000
DTSTAMP:20260423T000752
CREATED:20230622T193025Z
LAST-MODIFIED:20230622T193659Z
UID:7745-1687600800-1687622400@piedmontccc.org
SUMMARY:Summer Drive In Anger NC
DESCRIPTION:This event will be fun for everyone as it’ll be packed with awesome trucks and cars both classic and modern\, Food\, Vendors and music. The Depot will be open for some nice shade if it’s to warm or there’s local business to appreciate along the strip.\nTrophies will be awarded as such.\nTop 10 Classic (Sponsored by High Output Audio)\nBest Classic(Sponsored by High Output Audio)\nTop 10 Truck(Sponsored by Truck Outfitters)\nBest Truck(Sponsored by Truck Outfitters)\nTop 10 Modern\nBest Modern\nTop 3 Bike\nBest Bike\nBest Ford\nBest Mopar\nBest GM\nBest Import\nBest Rat Rod\nFan Favorite\nKids Choice\nFurthest Traveled\nBest in Show(Jade Towing and Recovery)\nRaffle prizes and 50/50 Drawing
URL:https://piedmontccc.org/event/summer-drive-in-anger-nc/
LOCATION:Angier NC\, 19 Depot\, Angier\, N.C.\, 27501
CATEGORIES:Car Show
END:VEVENT
BEGIN:VEVENT
DTSTART;TZID=UTC:20230505T080000
DTEND;TZID=UTC:20230507T170000
DTSTAMP:20260423T000752
CREATED:20230127T041114Z
LAST-MODIFIED:20230127T211551Z
UID:6845-1683273600-1683478800@piedmontccc.org
SUMMARY:OBX Rod & Custom Festival
DESCRIPTION: PREREGISTRATION closes on MARCH 19\, 2023!! That will be the last day to preregister at $50. The registration fee will be $60 at the event!! Please keep this in mind!!! All registration fees are a donation to charity and we are thankful to all who have been here in the past and the folks that have been with us going into the 5th year!!!
URL:https://piedmontccc.org/event/obx-car-show/
LOCATION:OBX Rod & Custom Show
CATEGORIES:Car Show
END:VEVENT
BEGIN:VEVENT
DTSTART;TZID=UTC:20230408T130000
DTEND;TZID=UTC:20230408T170000
DTSTAMP:20260423T000752
CREATED:20230125T212254Z
LAST-MODIFIED:20230328T023424Z
UID:7627-1680958800-1680973200@piedmontccc.org
SUMMARY:2nd Sunday Cateland Classic Cruise In
DESCRIPTION:2nd Sunday Cateland Classic Cruise In\n50/50 Cash Drawing\n\n\nRestroom Long distance Trophy Participants Choice Trophy\n919-435-4915\nRonnie White’s Main Street Service Station\n\n\nYoungsville\, North Carolina
URL:https://piedmontccc.org/event/2nd-sunday-catelandclassic-cruise-in/
LOCATION:Ronnie White’s Main Street Service Station\, 148 E Main St\, Youngsville\, NC\, 27596\, United States
CATEGORIES:Cruise In
END:VEVENT
BEGIN:VEVENT
DTSTART;TZID=UTC:20230316T080000
DTEND;TZID=UTC:20230318T170000
DTSTAMP:20260423T000752
CREATED:20200929T025855Z
LAST-MODIFIED:20230125T180351Z
UID:6488-1678953600-1679158800@piedmontccc.org
SUMMARY:34nd Annual Run to the Sun 2023
DESCRIPTION:.\n\n\n\n\n\n\n34th Annual Run to the Sun Car and Truck Show\nMarch 16-17-18\, 2023\n\n\n\n\n\n\n\n\nShow Location is the old Myrtle Square Mall\n2501 N Kings Highway\, Myrtle Beach\, SC 29577\n​Registration and ticket sales are ONLINE starting September 5\, 2022. This show has sold out the past 11 years and is expected to sell out with no on-site registrations available. Only cars and trucks 1989 and older can be registered\, entry will be strictly enforced\, no refunds for vehicles registered in violation of show policies.  Vehicles taking up more than one standard sized parking spot must purchase 2 entries and park in the grass area. No trailers permitted.\nPLEASE REGISTER ONLINE to assure entry for your car or truck.\nRegistration January 1st to February 19th – $65 \nRegistration after February 20th and day of show – $80  \nFor Cars and Trucks registered before February 19th\, packets will be mailed to the billing address registered.  Registration after February 19th or on-site registration must pickup packet at Four Points by Sheraton Myrtle Beach\, 101 Fantasy Harbour Blvd\, Myrtle Beach\, SC 29579
URL:https://piedmontccc.org/event/run-to-the-sun/
LOCATION:NC
CATEGORIES:Car Show
END:VEVENT
BEGIN:VEVENT
DTSTART;TZID=UTC:20230226T133000
DTEND;TZID=UTC:20230226T160000
DTSTAMP:20260423T000752
CREATED:20230125T204720Z
LAST-MODIFIED:20230125T204806Z
UID:7619-1677418200-1677427200@piedmontccc.org
SUMMARY:4th Saturday SANFORD CAR CRUISE'N
DESCRIPTION:
URL:https://piedmontccc.org/event/4th-saturday-sanford-car-cruisen/
LOCATION:Camelback Brewing Company\, 804 Spring Lane\, Sanford\, NC\, 27330\, United States
CATEGORIES:Cruise In
END:VEVENT
BEGIN:VEVENT
DTSTART;TZID=UTC:20230217T173000
DTEND;TZID=UTC:20230218T170000
DTSTAMP:20260423T000752
CREATED:20220202T001238Z
LAST-MODIFIED:20230124T031322Z
UID:7265-1676655000-1676739600@piedmontccc.org
SUMMARY:Shriners Drag Racing & Hot Rod Expo
DESCRIPTION:
URL:https://piedmontccc.org/event/shriners-drag-racing-hot-rod-expo/
LOCATION:Greensboro Coliseum\, 1921 W Gate City Blvd\,\, Greensboro\, NC\, NC\, 27403
CATEGORIES:Car Show
END:VEVENT
BEGIN:VEVENT
DTSTART;TZID=UTC:20230101T130000
DTEND;TZID=UTC:20230101T170000
DTSTAMP:20260423T000752
CREATED:20221207T002446Z
LAST-MODIFIED:20221207T002500Z
UID:7573-1672578000-1672592400@piedmontccc.org
SUMMARY:"Return to Grill 57" New Year's Day Cruise
DESCRIPTION:SUNDAY\, JANUARY 1\, 2023 AT 1 PM – 5 PM \nEvent by NICK – North Carolina Independent Car Klub\n4202 Fayetteville Rd\, Raleigh\, NC 27603-3608\, United States\nDuration: 4 hr\nA Return to the days of “Grill 57’s” Legendary New Years Day Cruise in Garner. NICK has have been asked to attempt to resurrect this once great cruise. Weather permitting the cruise is scheduled for January 1\, 2023. (Rain Date 1/7/2023) Parking for cruise to be in the main parking lot behind the Grill 57 location to Goodberry’s. Music to be provided. We are also trying to get a coffee and a food truck to attend also. Bring your cars and your memories……. \n  \nhttps://www.facebook.com/events/3020763254895404/?ref=newsfeed
URL:https://piedmontccc.org/event/return-to-grill-57-new-years-day-cruise/
LOCATION:NC
CATEGORIES:Cruise In
END:VEVENT
BEGIN:VEVENT
DTSTART;TZID=UTC:20221126T100000
DTEND;TZID=UTC:20221126T150000
DTSTAMP:20260423T000752
CREATED:20221103T164735Z
LAST-MODIFIED:20221103T165134Z
UID:7550-1669456800-1669474800@piedmontccc.org
SUMMARY:Fall Christian Car & Cycle Show
DESCRIPTION: 
URL:https://piedmontccc.org/event/fall-christian-car-cycle-show/
LOCATION:Wangs\, 216 S Main St\, Raeford\, NC\, 28376
CATEGORIES:Car Show
END:VEVENT
BEGIN:VEVENT
DTSTART;TZID=UTC:20221119T090000
DTEND;TZID=UTC:20221119T130000
DTSTAMP:20260423T000752
CREATED:20221103T163253Z
LAST-MODIFIED:20221103T163305Z
UID:7545-1668848400-1668862800@piedmontccc.org
SUMMARY:Cars At the Creek
DESCRIPTION:
URL:https://piedmontccc.org/event/cars-at-the-creek/
LOCATION:Middle Creek High School\, 123 Middle Creek Park Ave\, Apex\, NC\, 27539
CATEGORIES:Car Show
END:VEVENT
BEGIN:VEVENT
DTSTART;TZID=UTC:20221112T100000
DTEND;TZID=UTC:20221112T160000
DTSTAMP:20260423T000752
CREATED:20221103T155422Z
LAST-MODIFIED:20221103T155430Z
UID:7533-1668247200-1668268800@piedmontccc.org
SUMMARY:Park & Chill!
DESCRIPTION:
URL:https://piedmontccc.org/event/park-chill/
LOCATION:NC
CATEGORIES:Car Show
END:VEVENT
BEGIN:VEVENT
DTSTART;TZID=UTC:20221112T090000
DTEND;TZID=UTC:20221112T150000
DTSTAMP:20260423T000752
CREATED:20221103T160407Z
LAST-MODIFIED:20221103T161030Z
UID:7536-1668243600-1668265200@piedmontccc.org
SUMMARY:Remembering Our Heroes Car Show
DESCRIPTION:
URL:https://piedmontccc.org/event/remembering-our-heroes-car-show/
LOCATION:Biogen\, 5000 Davis Dr\, Durham\, NC\, 27709
CATEGORIES:Car Show
END:VEVENT
BEGIN:VEVENT
DTSTART;TZID=UTC:20221105T080000
DTEND;TZID=UTC:20221105T140000
DTSTAMP:20260423T000752
CREATED:20221103T162225Z
LAST-MODIFIED:20221103T162225Z
UID:7541-1667635200-1667656800@piedmontccc.org
SUMMARY:22nd Dunn Shrine Club Antique\, Classic\, Open Car & Truck Show
DESCRIPTION:The Dunn Shrine Club will host its 22nd anniversary Antique\, Classic\, Open Car & Truck Show during the NC Cotton Festival on Saturday\, Nov. 5. \nThe show will set up in the Dunn Shrine Center parking lot located at 211 N. Clinton Ave.\, Dunn. \nRegistraton will take place from 8 a.m. to noon. \nJudging time is noon to 2 p.m. and the awards will be presented at 3 p.m. \nThe entry fee is $25 per vehicle. Proceeds will benefit the Dunn Shrine Club. \nCategories include: Top 50 — 1900-2000; Top 5 — 2001-2022; Best Hot Rod\, Ford Product\, GM Product\, Chevy\, Truck\, Rat Rod\, Original and MOPAR Product. Awards also include the President’s Choice and Best in Show. \n\nDash plaques will be given to the first 75 entries. \n\n\nA disc jockey will provide music and food will be available. Organizers ask no radios\, no alcohol\, no profanity and no dogs. \n\n\nFor more information\, contact Neal Davis at 919-207-8676 or George Neighbors at 910-892-3625.
URL:https://piedmontccc.org/event/22nd-dunn-shrine-club-antique-classic-open-car-truck-show/
LOCATION:Dunn Shrine Center parking lot\, 211 N. Clinton Ave\, Dunn\, NC\, 28334
CATEGORIES:Car Show
END:VEVENT
BEGIN:VEVENT
DTSTART;TZID=UTC:20221104T080000
DTEND;TZID=UTC:20221105T170000
DTSTAMP:20260423T000752
CREATED:20220805T182726Z
LAST-MODIFIED:20220805T182804Z
UID:7418-1667548800-1667667600@piedmontccc.org
SUMMARY:HOT ROD SHINDIG!
DESCRIPTION:
URL:https://piedmontccc.org/event/hot-rod-shindig/
LOCATION:Coastal Plains Dragway\, 4744 Richlands HWY\, Jacksonville\, N C\, 28540
END:VEVENT
BEGIN:VEVENT
DTSTART;TZID=UTC:20221022T080000
DTEND;TZID=UTC:20221022T153000
DTSTAMP:20260423T000752
CREATED:20220921T002647Z
LAST-MODIFIED:20220921T002810Z
UID:7467-1666425600-1666452600@piedmontccc.org
SUMMARY:Power & Shine Drag Race & Car Show
DESCRIPTION:
URL:https://piedmontccc.org/event/7467/
LOCATION:Galot Motor Sports Park\, 4129 NC-242\,\, Dunn\, N.C.\, 28334
CATEGORIES:Car Show
END:VEVENT
BEGIN:VEVENT
DTSTART;TZID=UTC:20221015T080000
DTEND;TZID=UTC:20221015T150000
DTSTAMP:20260423T000752
CREATED:20220921T001135Z
LAST-MODIFIED:20220929T023404Z
UID:7462-1665820800-1665846000@piedmontccc.org
SUMMARY:Erwin Denim Days
DESCRIPTION:Moved to OCT 15th \n \n 
URL:https://piedmontccc.org/event/erwin-denim-days/
LOCATION:Erwin Business Complex Parking Lot\, 200 North 13th Street\, Erwin\, NC\, 28339\, United States
CATEGORIES:Car Show
END:VEVENT
BEGIN:VEVENT
DTSTART;TZID=UTC:20221008T080000
DTEND;TZID=UTC:20221008T150000
DTSTAMP:20260423T000752
CREATED:20210616T160649Z
LAST-MODIFIED:20220921T004008Z
UID:7048-1665216000-1665241200@piedmontccc.org
SUMMARY:Fall 2022 Open Car & Truck Show
DESCRIPTION:
URL:https://piedmontccc.org/event/apex-american-legion-car-show/
LOCATION:Apex Town Hall\, 73 Hunter Street\, Apex\, N.C.\, 27502
CATEGORIES:Car Show
END:VEVENT
BEGIN:VEVENT
DTSTART;TZID=UTC:20221001T150000
DTEND;TZID=UTC:20221001T200000
DTSTAMP:20260423T000752
CREATED:20210331T232801Z
LAST-MODIFIED:20220927T022024Z
UID:6916-1664636400-1664654400@piedmontccc.org
SUMMARY:MoJo's Grill Cruise-In
DESCRIPTION:
URL:https://piedmontccc.org/event/mojos-grill-cruise-in-4/
LOCATION:MoJo’s Grill  Parking Lot\, 2648 Timber Dr.\, Garner\, NC\, 27529\, United States
CATEGORIES:Cruise In
END:VEVENT
BEGIN:VEVENT
DTSTART;TZID=UTC:20221001T090000
DTEND;TZID=UTC:20221001T150000
DTSTAMP:20260423T000752
CREATED:20220927T021313Z
LAST-MODIFIED:20220927T021327Z
UID:7500-1664614800-1664636400@piedmontccc.org
SUMMARY:Car\, Bike &Truck Show
DESCRIPTION:
URL:https://piedmontccc.org/event/car-bike-truck-show/
LOCATION:Holly Springs United Church Of Christ\, 116 3rd St\,\, Holly Sorings\, NC\, 27540\, United States
CATEGORIES:Car Show
END:VEVENT
BEGIN:VEVENT
DTSTART;TZID=UTC:20220924T090000
DTEND;TZID=UTC:20220924T150000
DTSTAMP:20260423T000752
CREATED:20220922T203706Z
LAST-MODIFIED:20220922T203937Z
UID:7485-1664010000-1664031600@piedmontccc.org
SUMMARY:CRUZIN 4 KIDS CARSHOW & CRAFTS
DESCRIPTION:
URL:https://piedmontccc.org/event/cruzun-4-kids-carshow-crafts/
LOCATION:Cooper Ford\, 5292 US 15 501 Hwy\,\, Carthage\, NC\, 28327
CATEGORIES:Car Show
ORGANIZER;CN="Cruzin 4 Kidz Moore County NC":MAILTO:moorecaringhearts@yahoo.com
END:VEVENT
BEGIN:VEVENT
DTSTART;TZID=UTC:20220924T080000
DTEND;TZID=UTC:20220924T150000
DTSTAMP:20260423T000752
CREATED:20220921T005446Z
LAST-MODIFIED:20220921T005619Z
UID:7476-1664006400-1664031600@piedmontccc.org
SUMMARY:Wilson Community College Car & Truck Show
DESCRIPTION:Wilson Community College\, in partnership with the Eastern Carolina Corvette Club\, for the Wilson Community College Car & Truck Show on Saturday\, September 24\, 2022 from 9 AM – 3 PM at Wilson Community College\, 902 Herring Ave\, Wilson\, NC! Jeeps are also invited to participate. This event will be hosted at the back of the main campus. Please enter from the Ward Blvd entrances (see map below for reference). This event is free to the public. Vehicle entry is $15 before September 16 and $20 after September 16. Registration will be from 9 AM – noon with participants’ choice awards presented at 3 PM. There will be a 50/50 raffle open to the public and participants. This event is sponsored by Lee Motor Group. \nPARTICIPANTS’ CHOICE AWARD CATEGORIES:\n\nCLASSICS: All Makes & Models\nBEST OF SHOW: Ford\, GM\, Mopar\, Truck\, Foreign\, & Other\n\nAwards for Top 10 \n\nCLASSICS I: 1984-1967\nCLASSICS II: 1966-1950\nCLASSICS III: 1949 & Older\nCLASSICS – SPECIAL INTEREST: 1985-2022\nSPECIAL INTEREST I: 1985-2003\nSPECIAL INTEREST II: 2004-2022\n\nWCC Car & Truck Show Registration Form \nThis is a rain or shine event. No drones. No loud music. All proceeds benefit the WCC Automotive Systems Technology program.
URL:https://piedmontccc.org/event/wilson-community-college-car-truck-show/
LOCATION:Wilson Community College\, 902 Herring Ave E\, Wilson\, NC\, NC\, 27893
CATEGORIES:Car Show
END:VEVENT
BEGIN:VEVENT
DTSTART;TZID=UTC:20220911T080000
DTEND;TZID=UTC:20220911T140000
DTSTAMP:20260423T000752
CREATED:20220907T172317Z
LAST-MODIFIED:20220907T172342Z
UID:7445-1662883200-1662904800@piedmontccc.org
SUMMARY:9-11 Patriot Day
DESCRIPTION:
URL:https://piedmontccc.org/event/9-11-patriot-day/
LOCATION:American Legion Post 6\, 3700 NC Highway 54 W\,\, Chapel Hill\, NC\, N.C.\, 27516.
CATEGORIES:Cruise In
END:VEVENT
BEGIN:VEVENT
DTSTART;TZID=UTC:20220813T090000
DTEND;TZID=UTC:20220813T150000
DTSTAMP:20260423T000752
CREATED:20220805T195708Z
LAST-MODIFIED:20220805T195743Z
UID:7428-1660381200-1660402800@piedmontccc.org
SUMMARY:2nd Annual Car Show
DESCRIPTION:
URL:https://piedmontccc.org/event/car-show-2/
LOCATION:St Marys FWB Church\, 9305 Holly Springs Rd\, Apex\, N C\, 27539
CATEGORIES:Car Show
END:VEVENT
BEGIN:VEVENT
DTSTART;TZID=UTC:20220806T080000
DTEND;TZID=UTC:20220806T170000
DTSTAMP:20260423T000752
CREATED:20210802T213309Z
LAST-MODIFIED:20220805T193954Z
UID:7106-1659772800-1659805200@piedmontccc.org
SUMMARY:Zooland 31st annual Car Show
DESCRIPTION: 
URL:https://piedmontccc.org/event/zooland-30th-annual-car-show/
LOCATION:Downtown Asheboro\, intersection of Fayetteville St and Salisbury Street.\, Asheboro\, N.C.
CATEGORIES:Car Show
END:VEVENT
BEGIN:VEVENT
DTSTART;TZID=UTC:20220618T080000
DTEND;TZID=UTC:20220618T140000
DTSTAMP:20260423T000752
CREATED:20220615T190658Z
LAST-MODIFIED:20220615T190658Z
UID:7378-1655539200-1655560800@piedmontccc.org
SUMMARY:Twin County Cruisers 20th Annual Car\, Truck and Bike Show
DESCRIPTION:
URL:https://piedmontccc.org/event/twin-county-cruisers-20th-annual-car-truck-and-bike-show/
LOCATION:Haliwa-Saponi Tribal School\, 130 Haliwa Saponi Trail\, Hollister\, N.C.\, 27844
CATEGORIES:Car Show
END:VEVENT
BEGIN:VEVENT
DTSTART;TZID=UTC:20220522T070000
DTEND;TZID=UTC:20220522T150000
DTSTAMP:20260423T000752
CREATED:20220519T181911Z
LAST-MODIFIED:20220519T181911Z
UID:7349-1653202800-1653231600@piedmontccc.org
SUMMARY:WHEELS ON ACADEMY Cary's 9th Annual Car Show
DESCRIPTION:Cary’s 9th Annual Car Show\nSaturday\, May 21\, 2022 | 9 a.m. to 2 p.m.\nSouth Academy Street in Downtown Cary \nSpend a nice spring day seeing cars of yesteryear come alive and rule the roads alongside some of today’s modern hot rods and exotic cars. Find that special car that evokes memories of the past or dreams of the future. Academy Street will be full of entertainment\, food\, and fun for the entire family! \nCall for Car Show Entries\nEarly Registration has closed. Day-of registration will be available for $15 per car. Car load-in will take place from \n7-9 a.m. No cars will be allowed in after 9 a.m. for pedestrian safety. \nGETTING TO THE EVENT\nPlease enter the car show from Dry Avenue (in front of the Arts Center). You may arrive between 7 a.m. – 9 a.m. All cars must be on site by 9 a.m. in order to be judged\, regardless of if you pre-registered.\nReminder: Cars must remain at the event until 2:00 p.m. Early exits will not be permitted for safety reasons.\nFrom Interstate 40: Take exit 290 onto N.C. 54 West/Chapel Hill Road towards Cary. Get in the left lane and continue west for two miles on Chapel Hill Road. Turn left onto North Harrison Avenue. Cross over West Chatham Street. Your second left will be Dry Avenue. Then you will turn left onto S. Academy Street.\nFrom I-440 South:Take exit 101A (follow signs for Walnut Street/Shopping Centers). Turn left onto Walnut Street and continue on Walnut Street for about 2 miles and turn right onto Kildaire Farm Road. Kildaire Farm Road will turn into Dry Avenue and you will be then take a right onto S. Acedemy Street.\nCHECK IN – DAY OF REGISTRATION PROCEDURES\nCheck In begins at 7 a.m. and runs throught 9 a.m. All cars must be on site by 9 a.m. in order to be considered for judging. Cars arriving after 9 a.m. will be unable to enter.\nNo spaces are pre-assigned. Each car will be parked on Academy in the order that they arrive.\nOnce you enter and park your vehicle\, please walk over to the Check In area\, which is at the old library site. There you will fill out our registration form and pay the $15 Day of Registration Fee. Then you will receive your day of packet with your placard and score sheet for judging\, etc. You must have your placard and score sheet in order to be judged!\nIf you have a trailer\, you will be given instructions on where to park it when you arrive.\nWheels on Academy\nInformation to Know for:\nDAY OF REGISTRATION
URL:https://piedmontccc.org/event/wheels-on-academy-carys-9th-annual-car-show/
LOCATION:WHEELS ON ACADEMY Town of Cary\, S. Academy Street.\, Cary\, NC\, 27603\, United States
CATEGORIES:Car Show
END:VEVENT
BEGIN:VEVENT
DTSTART;TZID=UTC:20211022T080000
DTEND;TZID=UTC:20211023T170000
DTSTAMP:20260423T000752
CREATED:20211018T193213Z
LAST-MODIFIED:20211018T193213Z
UID:7215-1634889600-1635008400@piedmontccc.org
SUMMARY:Muscle Car Shake Down
DESCRIPTION:
URL:https://piedmontccc.org/event/muscle-car-shake-down/
LOCATION:Galot Motor Sports Park\, 4129 NC-242\,\, Dunn\, N.C.\, 28334
CATEGORIES:Car Show
END:VEVENT
BEGIN:VEVENT
DTSTART;TZID=UTC:20211002T110000
DTEND;TZID=UTC:20211002T160000
DTSTAMP:20260423T000752
CREATED:20210913T161022Z
LAST-MODIFIED:20210927T010728Z
UID:7187-1633172400-1633190400@piedmontccc.org
SUMMARY:Canceled Bike and Car Rally
DESCRIPTION:Canceled do to Covid outbreak at Children’s Home\n 
URL:https://piedmontccc.org/event/bike-and-car-rally/
LOCATION:Central Childrens Home of North Carolina\, 211 W Antioch Dr\,\, Oxford\, N. C.\, 27565
CATEGORIES:Car Show,Cruise In
END:VEVENT
BEGIN:VEVENT
DTSTART;TZID=UTC:20210926T123000
DTEND;TZID=UTC:20210926T150000
DTSTAMP:20260423T000752
CREATED:20210804T164358Z
LAST-MODIFIED:20210804T164506Z
UID:7121-1632659400-1632668400@piedmontccc.org
SUMMARY:Classic Car Show
DESCRIPTION:
URL:https://piedmontccc.org/event/classic-car-show/
LOCATION:Fellowship Raleigh Church\, 410 Lord Berkley Rd\, Raleigh\, N.C\, 27610
CATEGORIES:Car Show
ORGANIZER;CN="Richard Holden":MAILTO:richholdenjr@gmail.com
END:VEVENT
BEGIN:VEVENT
DTSTART;TZID=UTC:20210926T080000
DTEND;TZID=UTC:20210926T150000
DTSTAMP:20260423T000752
CREATED:20210802T190529Z
LAST-MODIFIED:20210802T190529Z
UID:7099-1632643200-1632668400@piedmontccc.org
SUMMARY:Fall Car & Truck Show
DESCRIPTION:
URL:https://piedmontccc.org/event/fall-car-truck-show/
LOCATION:American Legion Post 116 Fuquay-Varina\, 6400 Johnson Pond Rd\, Fuquay-Varina\,\, N.C.\, 27526
CATEGORIES:Car Show
END:VEVENT
END:VCALENDAR