BEGIN:VCALENDAR
VERSION:2.0
PRODID:-//Piedmont Classic Chevy Club - ECPv6.15.13//NONSGML v1.0//EN
CALSCALE:GREGORIAN
METHOD:PUBLISH
X-ORIGINAL-URL:https://piedmontccc.org
X-WR-CALDESC:Events for Piedmont Classic Chevy Club
REFRESH-INTERVAL;VALUE=DURATION:PT1H
X-Robots-Tag:noindex
X-PUBLISHED-TTL:PT1H
BEGIN:VTIMEZONE
TZID:UTC
BEGIN:STANDARD
TZOFFSETFROM:+0000
TZOFFSETTO:+0000
TZNAME:UTC
DTSTART:20230101T000000
END:STANDARD
END:VTIMEZONE
BEGIN:VEVENT
DTSTART;TZID=UTC:20240921T130000
DTEND;TZID=UTC:20240921T170000
DTSTAMP:20260422T223541
CREATED:20240905T024547Z
LAST-MODIFIED:20240905T024547Z
UID:8085-1726923600-1726938000@piedmontccc.org
SUMMARY:Cruise In Holly Springs
DESCRIPTION:
URL:https://piedmontccc.org/event/cruise-in-holly-springs/
LOCATION:Freddy’s Frozen Custard & Steakburgers\, 221 Grand Hill Pl\, Holly Springs\, NC\, 27540
CATEGORIES:Cruise In
END:VEVENT
BEGIN:VEVENT
DTSTART;TZID=UTC:20241005T080000
DTEND;TZID=UTC:20241005T150000
DTSTAMP:20260422T223541
CREATED:20200925T044029Z
LAST-MODIFIED:20240905T030207Z
UID:6442-1728115200-1728140400@piedmontccc.org
SUMMARY:Southland Fall Car & Truck Show
DESCRIPTION:
URL:https://piedmontccc.org/event/southland-fall-car-truck-show/
LOCATION:DEACON JONES AUTOPARK\, INC. Smithfield\, NC 27577\, 1109 & 1115 N Brightleaf Blvd\, Smithfield\,\, NC\, 27577\, United States
CATEGORIES:Car Show
END:VEVENT
BEGIN:VEVENT
DTSTART;TZID=UTC:20241005T090000
DTEND;TZID=UTC:20241005T150000
DTSTAMP:20260422T223541
CREATED:20240927T181925Z
LAST-MODIFIED:20241003T040556Z
UID:6912-1728118800-1728140400@piedmontccc.org
SUMMARY:Corvettes & Classics 2024  Wendell
DESCRIPTION:
URL:https://piedmontccc.org/event/corvettes-classics-2021-wendell/
LOCATION:Universal Chevrolet\, 114 N Main St\, Wendell\, N.C.\, 27591
CATEGORIES:Car Show
ATTACH;FMTTYPE=image/jpeg:https://piedmontccc.org/wp-content/uploads/2021/03/2024-flyers-universal-show-oct-5-2024-flyer.jpg
END:VEVENT
BEGIN:VEVENT
DTSTART;TZID=UTC:20241018T080000
DTEND;TZID=UTC:20241019T170000
DTSTAMP:20260422T223541
CREATED:20210622T151022Z
LAST-MODIFIED:20240826T151620Z
UID:6901-1729238400-1729357200@piedmontccc.org
SUMMARY:SHOW\, SHINE\, SHAG & DINE CAR SHOW
DESCRIPTION: 
URL:https://piedmontccc.org/event/show-shine-shag-dine-car-show/
LOCATION:Henderson N.C.\, South Garnett St\,\, Henderson\, N.C.\, 27536
CATEGORIES:Car Show
END:VEVENT
BEGIN:VEVENT
DTSTART;TZID=UTC:20241019T080000
DTEND;TZID=UTC:20241019T140000
DTSTAMP:20260422T223542
CREATED:20240918T153000Z
LAST-MODIFIED:20240918T153035Z
UID:8097-1729324800-1729346400@piedmontccc.org
SUMMARY:Columbus Lodge Day Car Show\, Rib Fest & Family Fun
DESCRIPTION:
URL:https://piedmontccc.org/event/columbus-lodge-day-car-show-rib-fest-family-fun/
LOCATION:Pittsboro Lowes Parking Lot\, 121 Lowes Drive\, Pittsboro\, N.C.\, 27312
CATEGORIES:Car Show
END:VEVENT
BEGIN:VEVENT
DTSTART;TZID=UTC:20250101T110000
DTEND;TZID=UTC:20250101T160000
DTSTAMP:20260422T223542
CREATED:20241218T182618Z
LAST-MODIFIED:20241230T031606Z
UID:6777-1735729200-1735747200@piedmontccc.org
SUMMARY:Mojo's Grill New Year Days Cruise In
DESCRIPTION: . \n 
URL:https://piedmontccc.org/event/new-year-days-cruise-in/
LOCATION:MoJo’s Grill  Parking Lot\, 2648 Timber Dr.\, Garner\, NC\, 27529\, United States
CATEGORIES:Cruise In
END:VEVENT
BEGIN:VEVENT
DTSTART;TZID=UTC:20250301T140000
DTEND;TZID=UTC:20250301T200000
DTSTAMP:20260422T223542
CREATED:20250225T001430Z
LAST-MODIFIED:20250226T044538Z
UID:7571-1740837600-1740859200@piedmontccc.org
SUMMARY:1st Saturday Mojos Cruise In
DESCRIPTION:
URL:https://piedmontccc.org/event/mojos-last-cruise-in-of-2022/
LOCATION:MoJo’s Grill  Parking Lot\, 2648 Timber Dr.\, Garner\, NC\, 27529\, United States
CATEGORIES:Cruise In
END:VEVENT
BEGIN:VEVENT
DTSTART;TZID=UTC:20250412T090000
DTEND;TZID=UTC:20250412T150000
DTSTAMP:20260422T223542
CREATED:20250225T214018Z
LAST-MODIFIED:20250226T044038Z
UID:6905-1744448400-1744470000@piedmontccc.org
SUMMARY:26th ANNUAL FUN IN THE SUN Corvettes Internationals Car Show
DESCRIPTION:
URL:https://piedmontccc.org/event/corvettes-internationals-fun-in-the-fall-live-car-show/
LOCATION:Northern Wake Tech Campus\, 6600 Louisburg Rd\, Raleigh\, N.C.\, 27616
CATEGORIES:Car Show
ATTACH;FMTTYPE=image/jpeg:https://piedmontccc.org/wp-content/uploads/2023/01/421687694_782860070538653_7343358325343947111_n.jpg
ORGANIZER;CN="Corvettes International Raleigh":MAILTO:president@corvettesinternational.com
END:VEVENT
BEGIN:VEVENT
DTSTART;TZID=UTC:20250525T080000
DTEND;TZID=UTC:20250525T150000
DTSTAMP:20260422T223542
CREATED:20250228T195441Z
LAST-MODIFIED:20250301T011649Z
UID:6527-1748160000-1748185200@piedmontccc.org
SUMMARY:35th Piedmont Classic Chevy Club Car Show
DESCRIPTION:.\n The 35th Annual Piedmont Classic Chevy Club Car Show is Saturday May 25\, 2025.\nOpen Show to All US Makes or American powered 1999 or Older ONLY\nProceeds from the car show to benefit: Raleigh’s Hilltop Home for children\nPhoto Plaques to first 150 Entries –Door Prizes – Music – 50/50 – Food\nRegistration 8am to 12pm or the venue is full. $20 Registration  Free to spectators\, Family Friendl\nBest of Awards see flyer\n visit our Facebook fan page https://www.facebook.com/piedmontccc\n Location: Mojo’s Grill  2468 Timber Dr\, Garner\, NC 27529\n Rules: No Pets\, No Glass Containers\, NO Alcohol\, NO Burn outs\, No Loud Music. No Firearms\nHelp us help the Children Become a Sponsor of the PCCC Car show Contact Pat Smith 919-961-6233 E-mail psmith036@outlook.com) for more information\n\n\n\n  \n  \n  \n 
URL:https://piedmontccc.org/event/31st-annual-piedmont-classic-chevy-club-car-show/
LOCATION:MoJo’s Grill  Parking Lot\, 2648 Timber Dr.\, Garner\, NC\, 27529\, United States
CATEGORIES:Car Show
ATTACH;FMTTYPE=image/jpeg:https://piedmontccc.org/wp-content/uploads/2020/09/2025-PCCC-Flyer-01.jpg
ORGANIZER;CN="Piedmont Classic Chevy Club":MAILTO:iiilps@aol.com
END:VEVENT
BEGIN:VEVENT
DTSTART;TZID=UTC:20251108T080000
DTEND;TZID=UTC:20251108T153000
DTSTAMP:20260422T223542
CREATED:20250328T021412Z
LAST-MODIFIED:20250329T035158Z
UID:7191-1762588800-1762615800@piedmontccc.org
SUMMARY:17th Annual Reunion Car Show
DESCRIPTION: 
URL:https://piedmontccc.org/event/13-annual-reunion-car-show/
LOCATION:Crossroads Church Benson N.C.\, 309 S. Walton Drive\, Benson\, NC\, 27504\, United States
CATEGORIES:Car Show
END:VEVENT
END:VCALENDAR