BEGIN:VCALENDAR
VERSION:2.0
PRODID:-//Piedmont Classic Chevy Club - ECPv6.15.13//NONSGML v1.0//EN
CALSCALE:GREGORIAN
METHOD:PUBLISH
X-WR-CALNAME:Piedmont Classic Chevy Club
X-ORIGINAL-URL:https://piedmontccc.org
X-WR-CALDESC:Events for Piedmont Classic Chevy Club
REFRESH-INTERVAL;VALUE=DURATION:PT1H
X-Robots-Tag:noindex
X-PUBLISHED-TTL:PT1H
BEGIN:VTIMEZONE
TZID:UTC
BEGIN:STANDARD
TZOFFSETFROM:+0000
TZOFFSETTO:+0000
TZNAME:UTC
DTSTART:20190101T000000
END:STANDARD
END:VTIMEZONE
BEGIN:VEVENT
DTSTART;TZID=UTC:20201121T080000
DTEND;TZID=UTC:20201121T153000
DTSTAMP:20260423T094009
CREATED:20201012T135501Z
LAST-MODIFIED:20201104T145819Z
UID:6696-1605945600-1605972600@piedmontccc.org
SUMMARY:12th Annual Reunion Car Show
DESCRIPTION:Registration: $20.00 Award’s Start at 2:30\nTop 50 – 1900 – 1986 Top 25 – 1987 -2021\nNot Responsible for any type of Damages or Accidents.\nNO BURNOUTS ALLOWED. Family Oriented. \n \n 
URL:https://piedmontccc.org/event/12th-annual-reunion-car-show/
LOCATION:Heath’s Steakhouse\, 316 S Powell Ave\,\, Dunn\,\, NC\, 28334\, United States
CATEGORIES:Nov.2020
END:VEVENT
BEGIN:VEVENT
DTSTART;TZID=UTC:20201121T080000
DTEND;TZID=UTC:20201121T110000
DTSTAMP:20260423T094009
CREATED:20201110T123340Z
LAST-MODIFIED:20201110T123340Z
UID:6766-1605945600-1605956400@piedmontccc.org
SUMMARY:Apex Cars n Coffee
DESCRIPTION:Apex Cars n Coffee a monthly gathering of car enthusiasts to share their passion for their cars\, trucks and motor cycles. Held on the 3rd Saturday morning of every month from 8 am to 11 am. Located at the Ambassador Presbyterian Church\, 1010 Scheiffelin Road in Apex. NC 27502.
URL:https://piedmontccc.org/event/apex-cars-n-coffee/
LOCATION:Ambassador Presbyterian Church\, 1010 Scheiffelin Road\, APEX\, NC\, 27502
CATEGORIES:Nov.2020
END:VEVENT
BEGIN:VEVENT
DTSTART;TZID=UTC:20201114T120000
DTEND;TZID=UTC:20201114T220000
DTSTAMP:20260423T094009
CREATED:20200929T053951Z
LAST-MODIFIED:20201026T024722Z
UID:6512-1605355200-1605391200@piedmontccc.org
SUMMARY:CANCELED Rockabillaque Car Show
DESCRIPTION:CANCELED ROCKABILLAQUE 2020 UPDATE AND CANCELLATION\nWe regret to say that we will be canceling this year’s event in Charleston due to circumstances out of our control.\n 2020’s Rockabillaque Festival will be a modified version of the classic event\, \nin partnership with an alternate location. We appreciate everyone’s patience as we work with the city and state to get everything finalized for \nthis year’s Rockabillaque.  We have to make sure we are following \nall safety precautions in order to bring you the best version of Rockabillaque for 2020. The festival will be on Saturday\, November 14th and will be fitting the current climate while also remaining \nthe action-packed day it’s become known for. \n  \nRockabillaque 2020 will be a ticketed event and include social distancing and mask protocols in cooperation with the City of North Charleston and following CDC guidelines. We plan to bring the same energy\, excitement and fun to the festival while updating it to fit current social distancing and safety measures. \nIt will be an all day event from 12pm to 10pm and will include over 12 regional and national music acts on two outdoor stages\, plus a Classic Car & Vintage Motorcycle Show\, a Pin-Up and Tattoo Contest\, vendors and more. The event will be completely outdoors and include reserved squares for 2-4 people\, as well as open seating area plus VIP Tents and other social distancing seating options. \n  \n 
URL:https://piedmontccc.org/event/rockabillaque-car-show/
LOCATION:Park Circle\, North Charleston\, South Carolina\, 29405
CATEGORIES:Nov.2020
END:VEVENT
BEGIN:VEVENT
DTSTART;TZID=UTC:20201110T170000
DTEND;TZID=UTC:20201116T110000
DTSTAMP:20260423T094009
CREATED:20200929T030953Z
LAST-MODIFIED:20200929T032014Z
UID:6494-1605027600-1605524400@piedmontccc.org
SUMMARY:Mopars at the Beach
DESCRIPTION:
URL:https://piedmontccc.org/event/mopars-at-the-beach/
LOCATION:N.C.
ORGANIZER;CN="Coastal Carolina Mopars":MAILTO:coastalcarolinamopars@gmail.com
END:VEVENT
BEGIN:VEVENT
DTSTART;TZID=UTC:20201107T080000
DTEND;TZID=UTC:20201107T120000
DTSTAMP:20260423T094009
CREATED:20201104T005246Z
LAST-MODIFIED:20201104T005426Z
UID:6757-1604736000-1604750400@piedmontccc.org
SUMMARY:C&C Apex
DESCRIPTION:
URL:https://piedmontccc.org/event/cc-apex/
LOCATION:N.C.
CATEGORIES:Nov.2020
END:VEVENT
BEGIN:VEVENT
DTSTART;TZID=UTC:20201102T140000
DTEND;TZID=UTC:20201102T200000
DTSTAMP:20260423T094009
CREATED:20201001T020251Z
LAST-MODIFIED:20201001T020251Z
UID:6553-1604325600-1604347200@piedmontccc.org
SUMMARY:Hwy 55 Cruise In
DESCRIPTION:
URL:https://piedmontccc.org/event/hwy-55-cruise-in-2/
LOCATION:HWY 55 Garner Cruise IN\, 152 Bratton Dr\, Garner\, NC\, 27529
CATEGORIES:Nov.2020
END:VEVENT
BEGIN:VEVENT
DTSTART;TZID=UTC:20201031T160000
DTEND;TZID=UTC:20201031T180000
DTSTAMP:20260423T094009
CREATED:20201001T013530Z
LAST-MODIFIED:20201001T014024Z
UID:6544-1604160000-1604167200@piedmontccc.org
SUMMARY:Phillips Farms Trunk or Treat
DESCRIPTION:Saturday\, October 31\, 2020 at 4 PM – 6 PM\n\n\n\n\n\n\n\n\n\n\n\nPhillips Farms of Cary\, NC\n\n\n\n\n\n\n\n\n\n\n\nPublic · Hosted by Phillips Farms of Cary\, NC\n\n\n\n\n\n\n\nWe are hosting our annual Trunk or Treat event with Infidel Jeepers of North Carolina on Halloween night from 4-6pm! Bring the kids and the entire family for a fun & safe Halloween event! We will also have raffle prizes this year and all proceeds go to support Never Forget 9H Foundation. Before the event\, enjoy the Corn Maze\, Pumpkin Patch\, and Family Fun Park at the farm! After the event\, if you’re up for some scary good fun\, you can experience the Field of Lost Souls and Rebellion Trail at Phillips Farms of Cary from 7:30pm-11:30pm.
URL:https://piedmontccc.org/event/phillips-farms-trunk-or-treat/
LOCATION:Phillips Farms of Cary\, NC\, 6701 Good Hope Church Road\, Cary\, NC\, 27511
CATEGORIES:Oct. 2020,Oct.2020
END:VEVENT
BEGIN:VEVENT
DTSTART;TZID=UTC:20201031T100000
DTEND;TZID=UTC:20201031T140000
DTSTAMP:20260423T094009
CREATED:20201012T232104Z
LAST-MODIFIED:20201012T232104Z
UID:6728-1604138400-1604152800@piedmontccc.org
SUMMARY:RUST & SHINE HALLOWEEN Classic Cruise IN
DESCRIPTION:Halloween Classic Car cruise in\, and trunk or treat @ Aversboro Square!!! Shine up your rides\, bring some candy for the kids\, show off your rides\, and hang out!
URL:https://piedmontccc.org/event/rust-shine-halloween-classic-cruise-in/
LOCATION:Van-tique Barbershop\, 1411 Aversboro Rd\, Garner\, NC\, 27529\, United States
CATEGORIES:Oct. 2020,Oct.2020
ORGANIZER;CN="Van-tique Barbershop":MAILTO:vantiquebarbershop@yahoo.com
END:VEVENT
BEGIN:VEVENT
DTSTART;TZID=UTC:20201024T100000
DTEND;TZID=UTC:20201024T150000
DTSTAMP:20260423T094009
CREATED:20201021T010510Z
LAST-MODIFIED:20201021T010510Z
UID:6735-1603533600-1603551600@piedmontccc.org
SUMMARY:Run to the Pines car Show
DESCRIPTION:
URL:https://piedmontccc.org/event/run-to-the-pines-car-show/
LOCATION:N.C.
CATEGORIES:Oct. 2020,Oct.2020
END:VEVENT
BEGIN:VEVENT
DTSTART;TZID=UTC:20201024T093000
DTEND;TZID=UTC:20201024T160000
DTSTAMP:20260423T094009
CREATED:20200929T144105Z
LAST-MODIFIED:20200929T144558Z
UID:6523-1603531800-1603555200@piedmontccc.org
SUMMARY:Braggin' Through The "Ville Car\, Truck\, Jeep\, and Bike Show
DESCRIPTION:Whole Vet @ I-95 Muscle for what should be our biggest show yet. Cruise on down to beautiful Hope Mills\, NC for the Braggin’ Through The “Ville Car\, Truck\, Jeep\, and Bike Show from 9:00 AM to 4:00 PM. We will have a DJ\, Food Trucks\, Vendors\, 50/50 Drawing\, and a Raffle. Registration for competitors\, and other show info below (And on flier as well). This event is open to the public for viewing.
URL:https://piedmontccc.org/event/braggin-through-the-ville-car-truck-jeep-and-bike-show/
LOCATION:I-95 Muscle\, 4115 Legion Road\, Hope Mills\, NC\, 28348\, United States
CATEGORIES:Oct. 2020,Oct.2020
END:VEVENT
BEGIN:VEVENT
DTSTART;TZID=UTC:20201024T080000
DTEND;TZID=UTC:20201024T160000
DTSTAMP:20260423T094009
CREATED:20200917T172534Z
LAST-MODIFIED:20201014T023158Z
UID:5394-1603526400-1603555200@piedmontccc.org
SUMMARY:Durham Car Show
DESCRIPTION:We just confirmed that we will be having our car show. Please bring your mask and practice social distancing. We look forward to seeing everyone. Tell all of your friends to come on out. lets make this another great show! It’s time to get out and show off our beautiful cars \,trucks\, and motorcycles. Thank you in advance for all of your support over the years.\nLarry Riley and family\, any questions call 919-618-2922 \n  \n 
URL:https://piedmontccc.org/event/durham-car-show/
LOCATION:Followship Baptist Church\, Followship Baptist Church\, United States
CATEGORIES:Oct. 2020,Sep. 2020
END:VEVENT
BEGIN:VEVENT
DTSTART;TZID=UTC:20201018T090000
DTEND;TZID=UTC:20201018T170000
DTSTAMP:20260423T094009
CREATED:20200929T140229Z
LAST-MODIFIED:20201010T145644Z
UID:6519-1603011600-1603040400@piedmontccc.org
SUMMARY:Skurd Straight On The Farm Car\, Truck\, & Bike Show
DESCRIPTION:Moved to Rain Date Oct. 18th \nLocation: Big Daddy’s Farms\, 11959 NC Hwy 222 W Middlesex NC\, 27557. Registration -$25 Includes driver & passenger. Spectator – $3 per person\, $5 for 2 adults 2 kids.
URL:https://piedmontccc.org/event/skurd-straight-on-the-farm-car-truck-bike-show/
LOCATION:Big Daddy’s Farms\, 11959 NC Hwy 222 W\, Middlesex\, NC\, 27577\, United States
CATEGORIES:Oct. 2020,Oct.2020
END:VEVENT
BEGIN:VEVENT
DTSTART;TZID=UTC:20201010T080000
DTEND;TZID=UTC:20201010T160000
DTSTAMP:20260423T094009
CREATED:20201001T022859Z
LAST-MODIFIED:20201001T022859Z
UID:6558-1602316800-1602345600@piedmontccc.org
SUMMARY:Harvest Baptist Church Car& Truck Show
DESCRIPTION:
URL:https://piedmontccc.org/event/harvest-baptist-church-car-truck-show/
LOCATION:Harvest Baptist Church\, 5504 McPhail Street\, Hope Mills\, NC\, 28348
CATEGORIES:Car Show
END:VEVENT
BEGIN:VEVENT
DTSTART;TZID=UTC:20201009T080000
DTEND;TZID=UTC:20201010T170000
DTSTAMP:20260423T094009
CREATED:20200929T034319Z
LAST-MODIFIED:20200929T041505Z
UID:6498-1602230400-1602349200@piedmontccc.org
SUMMARY:OBX Rod & Custom Festival
DESCRIPTION:Website says Registration is Closed. Contact event 252-305-5789 If you want to show a car.
URL:https://piedmontccc.org/event/obx-rod-custom-festival/
LOCATION:Outer Banks NC\, Kill Devil Hills\, NC\, United States
END:VEVENT
BEGIN:VEVENT
DTSTART;TZID=UTC:20201004T140000
DTEND;TZID=UTC:20201004T200000
DTSTAMP:20260423T094009
CREATED:20201001T015302Z
LAST-MODIFIED:20201001T024045Z
UID:6547-1601820000-1601841600@piedmontccc.org
SUMMARY:Hwy 55 Cruise In
DESCRIPTION:
URL:https://piedmontccc.org/event/hwy-55-cruise-in/
LOCATION:HWY 55 Garner Cruise IN\, 152 Bratton Dr\, Garner\, NC\, 27529
CATEGORIES:Cruise In,Oct. 2020,Oct.2020
END:VEVENT
BEGIN:VEVENT
DTSTART;TZID=UTC:20200926T150000
DTEND;TZID=UTC:20200926T220000
DTSTAMP:20260423T094009
CREATED:20200924T111313Z
LAST-MODIFIED:20200924T111645Z
UID:6408-1601132400-1601157600@piedmontccc.org
SUMMARY:SANFORD NC - CRUISE IN
DESCRIPTION:Saturday 26 September 2020\n–SANFORD NC – CRUISE IN – CamelBack Brewing 804 Spring Ln Sanford NC 919-770-0503 for details
URL:https://piedmontccc.org/event/sanford-nc-cruise-in/
LOCATION:CamelBack Brewing\, 804 Spring Ln\, Sanford\, NC\, 27330\, United States
END:VEVENT
BEGIN:VEVENT
DTSTART;TZID=UTC:20200924T080000
DTEND;TZID=UTC:20200926T170000
DTSTAMP:20260423T094009
CREATED:20200917T170957Z
LAST-MODIFIED:20200917T171505Z
UID:5381-1600934400-1601139600@piedmontccc.org
SUMMARY:Maggie Valley Swap Meet
DESCRIPTION:
URL:https://piedmontccc.org/event/maggie-valley-swap-meet/
LOCATION:Maggie Valley Festival Grounds\, ALSO C-10 Nationals\, Maggie Valley Festival Grounds 3374 Soco Rd.\, Maggie Valley Car Show and Swap Meet\, United States
CATEGORIES:Sep. 2020
END:VEVENT
BEGIN:VEVENT
DTSTART;VALUE=DATE:20200917
DTEND;VALUE=DATE:20200920
DTSTAMP:20260423T094009
CREATED:20200917T171812Z
LAST-MODIFIED:20200917T171840Z
UID:5389-1600300800-1600559999@piedmontccc.org
SUMMARY:Rod Run Pigeon Forge
DESCRIPTION:
URL:https://piedmontccc.org/event/rod-run-pigeon-forge/
LOCATION:Pigeon Forge TN\, Pigeon Forge TN\, Rod Run is a go! LeConte Center at Pigeon Forge 17th thru 19th.\, United States
CATEGORIES:Sep. 2020
END:VEVENT
BEGIN:VEVENT
DTSTART;TZID=UTC:20200912T080000
DTEND;TZID=UTC:20200912T140000
DTSTAMP:20260423T094009
CREATED:20200917T173016Z
LAST-MODIFIED:20200917T173848Z
UID:5396-1599897600-1599919200@piedmontccc.org
SUMMARY:Car Show
DESCRIPTION:
URL:https://piedmontccc.org/event/car-show/
LOCATION:N.C.
CATEGORIES:Sep. 2020
END:VEVENT
END:VCALENDAR